BEGIN:VCALENDAR
VERSION:2.0
PRODID:-//Columbia-Greene Community College - ECPv6.15.17.1//NONSGML v1.0//EN
CALSCALE:GREGORIAN
METHOD:PUBLISH
X-ORIGINAL-URL:https://www.columbiagreene.edu
X-WR-CALDESC:Events for Columbia-Greene Community College
REFRESH-INTERVAL;VALUE=DURATION:PT1H
X-Robots-Tag:noindex
X-PUBLISHED-TTL:PT1H
BEGIN:VTIMEZONE
TZID:America/New_York
BEGIN:DAYLIGHT
TZOFFSETFROM:-0500
TZOFFSETTO:-0400
TZNAME:EDT
DTSTART:20250309T070000
END:DAYLIGHT
BEGIN:STANDARD
TZOFFSETFROM:-0400
TZOFFSETTO:-0500
TZNAME:EST
DTSTART:20251102T060000
END:STANDARD
BEGIN:DAYLIGHT
TZOFFSETFROM:-0500
TZOFFSETTO:-0400
TZNAME:EDT
DTSTART:20260308T070000
END:DAYLIGHT
BEGIN:STANDARD
TZOFFSETFROM:-0400
TZOFFSETTO:-0500
TZNAME:EST
DTSTART:20261101T060000
END:STANDARD
BEGIN:DAYLIGHT
TZOFFSETFROM:-0500
TZOFFSETTO:-0400
TZNAME:EDT
DTSTART:20270314T070000
END:DAYLIGHT
BEGIN:STANDARD
TZOFFSETFROM:-0400
TZOFFSETTO:-0500
TZNAME:EST
DTSTART:20271107T060000
END:STANDARD
END:VTIMEZONE
BEGIN:VEVENT
DTSTART;VALUE=DATE:20260120
DTEND;VALUE=DATE:20260516
DTSTAMP:20260424T111902
CREATED:20260115T135812Z
LAST-MODIFIED:20260115T140618Z
UID:68700-1768867200-1778889599@www.columbiagreene.edu
SUMMARY:The Library and Student Success Center (SSC) are here for you this Spring!
DESCRIPTION:We are here to support you throughout the Spring semester\, with study space\, research help\, tutoring\, academic coaching\, and more. Select weekend support available TBA. \nLibrary hours: Mon 8–7\, Tue–Thu 8–5\, Fri 8–4 \nLibrary online resources are available 24/7 for research\, articles\, eBooks\, and more \nhttps://www.columbiagreene.edu/academics/library/ \nSSC hours: Mon/Wed 8-5\, Tues/Thurs 8-6\, Fri 8–4 \nSaturday support available: 9 am – 1pm on select dates (check SSC announcements) \nTo support all learners\, the Computer Lab (Room 113F) is open 7 days a week 8 am-9 pm \nhttps://www.columbiagreene.edu/academics/success-center/ \n  \nStop by for research help\, tutoring\, academic coaching\, study space\, and more. We are here to help you succeed. \n 
URL:https://www.columbiagreene.edu/event/the-library-and-student-success-center-ssc-are-here-for-you-this-spring/
LOCATION:Student Success Center\, Main Building
END:VEVENT
BEGIN:VEVENT
DTSTART;TZID=America/New_York:20260120T080000
DTEND;TZID=America/New_York:20260430T170000
DTSTAMP:20260424T111902
CREATED:20260113T191706Z
LAST-MODIFIED:20260121T150245Z
UID:68631-1768896000-1777568400@www.columbiagreene.edu
SUMMARY:Library Skills Course - Online
DESCRIPTION:Students can enroll in a free\, self-paced\, online Library Skills course which strengthens research confidence\, supports academic integrity\, and includes updated guidance on AI use. \nEnrollment is available throughout the semester—contact reference@sunycgcc.edu or fill out the contact form for details and deadlines.
URL:https://www.columbiagreene.edu/event/library-skills-course/
LOCATION:Main Building\, Library
END:VEVENT
BEGIN:VEVENT
DTSTART;VALUE=DATE:20260403
DTEND;VALUE=DATE:20260501
DTSTAMP:20260424T111902
CREATED:20260403T181119Z
LAST-MODIFIED:20260403T181119Z
UID:83369-1775174400-1777593599@www.columbiagreene.edu
SUMMARY:National Poetry Month - 30th Anniversary
DESCRIPTION:National Poetry Month 2026 marks its 30th anniversary this April (April 1–30)\, organized by the Academy of American Poets. Learn more at Poets.org. \nVisit The Poet’s Corner—located upstairs in the library—a space dedicated to honoring retired Dean Emerita Phyllis Carito’s commitment to creative writing. Explore our permanent poetry display and contribute your own work or a favorite poem to the community binder. \nThe library also features a signed copy of Mothernest by retired C-GCC English Professor Sandy Longley. Be sure to pick up a pocket poetry bookmark created by Elyse Browne. \nStay tuned for an upcoming event celebrating Dean Emerita Phyllis Carito’s newest book.
URL:https://www.columbiagreene.edu/event/national-poetry-month-30th-anniversary/
LOCATION:Main Building\, Library
END:VEVENT
BEGIN:VEVENT
DTSTART;VALUE=DATE:20260419
DTEND;VALUE=DATE:20260426
DTSTAMP:20260424T111902
CREATED:20260409T161831Z
LAST-MODIFIED:20260409T161831Z
UID:83450-1776556800-1777161599@www.columbiagreene.edu
SUMMARY:National Library Week: Find Your Joy @ Your Library
DESCRIPTION:National Library Week is an annual celebration that highlights the vital role libraries and library professionals play in transforming lives and strengthening our communities. – ALA\nJoin us in the Library for a week of inspiration\, creativity\, and community! \n  \nAdd your voice to our whiteboard:\n“What brings you joy?” \n Pause & Reflect \nStop by our Pause Series table \n\nSpring Pause: Take a moment to reflect and notice growth\nPick up a poetry bookmark to take with you\n\nShare a Book You Love\nHelp us grow our Tiny Library Display\n• Submit a favorite title\n• We’ll feature it in our display \nExplore Your Library\nLearn about resources that support your success:\n• Research databases & collections\n• Library support & services\n• Welcoming study spaces
URL:https://www.columbiagreene.edu/event/national-library-week-find-your-joy-your-library/
LOCATION:Main Building\, Library
END:VEVENT
BEGIN:VEVENT
DTSTART;TZID=America/New_York:20260427T080000
DTEND;TZID=America/New_York:20260427T190000
DTSTAMP:20260424T111902
CREATED:20260113T201345Z
LAST-MODIFIED:20260128T141023Z
UID:68657-1777276800-1777316400@www.columbiagreene.edu
SUMMARY:Mindful Mondays & Extended Hours
DESCRIPTION:Start your week with tea\, coffee\, and treats while exploring how the library can support your success. Take a moment to reflect on your goals\, set weekly intentions in our shared journal\, or add to our gratitude tree. Drop in anytime to relax\, recharge\, and discover something new in the Library Connection Nook. \nDrop in for virtual research assistance 5:30 – 6:30 Zoom link: https://zoom.us/j/99684535636
URL:https://www.columbiagreene.edu/event/mindful-mondays-extended-hours-12/
LOCATION:Main Building\, Library
END:VEVENT
BEGIN:VEVENT
DTSTART;TZID=America/New_York:20260427T090000
DTEND;TZID=America/New_York:20260427T120000
DTSTAMP:20260424T111902
CREATED:20260420T155331Z
LAST-MODIFIED:20260423T162154Z
UID:83620-1777280400-1777291200@www.columbiagreene.edu
SUMMARY:Bio Blitz & Career Fair at the College's Field Station
DESCRIPTION:Join us for a hands-on Environmental Biology event at the preserve\, bringing together industry professionals\, C-GCC students\, and over 70 students from seven local high schools. Participants will explore the site in search of native species while connecting with professionals from organizations such as NYS Parks\, ENCON Police\, Albany Pine Bush\, and Cornell Cooperative Extension. These experts will volunteer their time to share insights into their day-to-day work and demonstrate field skills. \nAddress of Fieldstation: 450 NY-385\, Catskill\, NY 12414
URL:https://www.columbiagreene.edu/event/bio-blitz-career-fair-at-the-colleges-field-station/
CATEGORIES:Community Event
END:VEVENT
BEGIN:VEVENT
DTSTART;TZID=America/New_York:20260428T121500
DTEND;TZID=America/New_York:20260428T130000
DTSTAMP:20260424T111902
CREATED:20260422T183031Z
LAST-MODIFIED:20260422T183031Z
UID:83646-1777378500-1777381200@www.columbiagreene.edu
SUMMARY:Town Hall
DESCRIPTION:Town Hall meetings are available to current employees (faculty\, staff\, and administrators) and adjunct faculty. Come hear about campus updates from President Walsh and members of the Executive Leadership Team.
URL:https://www.columbiagreene.edu/event/town-hall/
LOCATION:PAC 616
CATEGORIES:All Faculty and Staff
END:VEVENT
BEGIN:VEVENT
DTSTART;TZID=America/New_York:20260428T123000
DTEND;TZID=America/New_York:20260428T133000
DTSTAMP:20260424T111902
CREATED:20260402T145901Z
LAST-MODIFIED:20260402T150129Z
UID:83346-1777379400-1777383000@www.columbiagreene.edu
SUMMARY:Cookie Decorating with Buttercup Cookie
DESCRIPTION:Want to decorate cookies like a pro? Join Cindy from Buttercup Cookie for a fun\, hands-on class where you’ll learn decorating techniques and create your own sweet designs. \nSpace is limited to 24 participants. To reserve your spot\, sign up in Room 307 (across from the COARC Cafe). Don’t wait—this class will fill up quickly!
URL:https://www.columbiagreene.edu/event/cookie-decorating-with-buttercup-cookie/
LOCATION:Gym
CATEGORIES:Campus Community
END:VEVENT
BEGIN:VEVENT
DTSTART;TZID=America/New_York:20260428T123000
DTEND;TZID=America/New_York:20260428T133000
DTSTAMP:20260424T111902
CREATED:20260422T183235Z
LAST-MODIFIED:20260422T183304Z
UID:83648-1777379400-1777383000@www.columbiagreene.edu
SUMMARY:Magic: The Gathering Social Club
DESCRIPTION:Join us for the Magic: The Gathering Social Club. Players of all experience levels are welcome. Come learn\, play\, and hang with fellow Planeswalkers. Pizza and Fellowship provided.
URL:https://www.columbiagreene.edu/event/magic-the-gathering-social-club-8/
LOCATION:Room 308
CATEGORIES:Campus Community
END:VEVENT
BEGIN:VEVENT
DTSTART;TZID=America/New_York:20260430T110000
DTEND;TZID=America/New_York:20260430T120000
DTSTAMP:20260424T111902
CREATED:20260420T173118Z
LAST-MODIFIED:20260420T173118Z
UID:83627-1777546800-1777550400@www.columbiagreene.edu
SUMMARY:Credit for Prior Learning Webpage & Best Practices: Workshop I 
DESCRIPTION:Hosted by the Center for Innovation\, Teaching\, and Learning\, the department of Continuing Education & Workforce Development (CEWD) is excited to announce and provide a series of workshops and trainings for the campus focusing on Credit for Prior Learning (CPL) and the campuses new CPL webpage. CPL is meant to be an equitable and accessible pathway to the college\, specifically for adult and non-tradition learners. CPL recognizes and values the full range of documented learning experiences our students bring with them. Refined transparency and consistency with our CPL processes makes it easier for students to understand their options at the college and demonstrate what they already know for an opportunity to receive credit in ways that support timely equitable progress toward their personal\, academic\, and career goals.  \nWho Should Attend: Division Chairs\, Advisors\, full-time faculty\, student-facing staff and administrators (advising\, admissions\, financial aid). \nFor those who cannot attend\, a recording will be shared for registrants after the event.
URL:https://www.columbiagreene.edu/event/credit-for-prior-learning-webpage-best-practices-workshop-i/
LOCATION:CITL\, Room 511\, Arts Center
CATEGORIES:Academic,Admissions,Advising,All Faculty and Staff,Campus Community,financial aid
ORGANIZER;CN="CITL and Continuing Education & Workforce Development (CEWD)":MAILTO:carl.norris@sunycgcc.edu
END:VEVENT
BEGIN:VEVENT
DTSTART;TZID=America/New_York:20260430T123000
DTEND;TZID=America/New_York:20260430T133000
DTSTAMP:20260424T111902
CREATED:20260413T182606Z
LAST-MODIFIED:20260413T183612Z
UID:83500-1777552200-1777555800@www.columbiagreene.edu
SUMMARY:C-GCC Idol
DESCRIPTION:The Engagement Office invites you to attend C-GCC IDOL! Do you love to watch rapping\, dancing\, poetry reading\, or another talent? Come support your peers at this talent show. Human Spotify performer John Rush will return to campus to support our student performers at this exciting event. \nIf you have questions\, contact Terrie at teresa.king@sunycgcc.edu.
URL:https://www.columbiagreene.edu/event/c-gcc-idol/
LOCATION:Arts Center\, Theater
CATEGORIES:Campus Community
END:VEVENT
BEGIN:VEVENT
DTSTART;TZID=America/New_York:20260502T110000
DTEND;TZID=America/New_York:20260502T133000
DTSTAMP:20260424T111902
CREATED:20260204T210645Z
LAST-MODIFIED:20260204T210645Z
UID:69046-1777719600-1777728600@www.columbiagreene.edu
SUMMARY:Saturday Hours in the SSC
DESCRIPTION:The Student Success Center (SSC) will be open on the Saturday dates listed below from 11:00 a.m.–1:00 p.m. Computer labs with printers will be open for student use. \n• May 2• May 9
URL:https://www.columbiagreene.edu/event/saturday-hours-in-the-ssc-5/
LOCATION:SSC
CATEGORIES:Student Event
END:VEVENT
BEGIN:VEVENT
DTSTART;TZID=America/New_York:20260504T080000
DTEND;TZID=America/New_York:20260504T190000
DTSTAMP:20260424T111902
CREATED:20260113T201428Z
LAST-MODIFIED:20260128T141046Z
UID:68659-1777881600-1777921200@www.columbiagreene.edu
SUMMARY:Mindful Mondays & Extended Hours
DESCRIPTION:Start your week with tea\, coffee\, and treats while exploring how the library can support your success. Take a moment to reflect on your goals\, set weekly intentions in our shared journal\, or add to our gratitude tree. Drop in anytime to relax\, recharge\, and discover something new in the Library Connection Nook. \nDrop in for virtual research assistance 5:30 – 6:30 Zoom link: https://zoom.us/j/99684535636
URL:https://www.columbiagreene.edu/event/mindful-mondays-extended-hours-13/
LOCATION:Main Building\, Library
END:VEVENT
BEGIN:VEVENT
DTSTART;TZID=America/New_York:20260504T123000
DTEND;TZID=America/New_York:20260504T133000
DTSTAMP:20260424T111902
CREATED:20260422T184221Z
LAST-MODIFIED:20260422T185757Z
UID:83655-1777897800-1777901400@www.columbiagreene.edu
SUMMARY:Responsible AI Use in the Classroom
DESCRIPTION:Professor of Communication and CITL Fellow Maya Greene\, recently named a GPTZero Ambassador\, will host a Professional Development session on Responsible AI Policies in the Classroom on May 4 from 12:30–1:30 PM. A recording will be made available for those who cannot attend live. The session will explore AI detection\, emerging classroom practices\, and media literacy in the age of AI. All participants receive one semester of GPTZero Premium. Open to all colleagues interested in ethical and effective use of AI in the classroom.  \nLink to event: https://zoom.us/j/93742298043
URL:https://www.columbiagreene.edu/event/responsible-ai-use-in-the-classroom/
LOCATION:Online
ORGANIZER;CN="CITL":MAILTO:citl@columbiagreene.edu
END:VEVENT
BEGIN:VEVENT
DTSTART;TZID=America/New_York:20260505T120000
DTEND;TZID=America/New_York:20260505T133000
DTSTAMP:20260424T111902
CREATED:20260420T154535Z
LAST-MODIFIED:20260420T154626Z
UID:83618-1777982400-1777987800@www.columbiagreene.edu
SUMMARY:Student Recognition Ceremony & Spring Picnic
DESCRIPTION:Join us for the 20th Student Recognition Ceremony & Spring Picnic! Enjoy free food on the South Lawn starting at 12 noon. At 12:30\, the Student Recognition Ceremony will take place in the Student Cafeteria.
URL:https://www.columbiagreene.edu/event/student-recognition-ceremony-spring-picnic/
LOCATION:Student Cafeteria
CATEGORIES:Campus Community
END:VEVENT
BEGIN:VEVENT
DTSTART;TZID=America/New_York:20260506T110000
DTEND;TZID=America/New_York:20260506T120000
DTSTAMP:20260424T111902
CREATED:20260420T173345Z
LAST-MODIFIED:20260420T173345Z
UID:83629-1778065200-1778068800@www.columbiagreene.edu
SUMMARY:Credit for Prior Learning & Best Practices: Workshop II
DESCRIPTION:Hosted by the Center for Innovation\, Teaching\, and Learning\, the department of Continuing Education & Workforce Development (CEWD) continues their series of workshops and trainings centered around Credit for Prior Learning (CPL). During this second installation\, CEWD will specifically discuss C-GCC’s different CPL Pathways\, provide examples of common CPL alignments\, and continue to review best practices for how to best advise our students interested in\, and that are candidates for CPL.  \nWho Should Attend: Division Chairs\, Advisors\, full-time faculty\, student-facing staff and administrators (advising\, admissions\, financial aid). For those unable to attend\, a recording will be made available after the session and shared with registrants.
URL:https://www.columbiagreene.edu/event/credit-for-prior-learning-best-practices-workshop-ii/
LOCATION:CITL\, Room 511\, Arts Center
CATEGORIES:Academic,Admissions,Advising,All Faculty and Staff,Campus Community,Faculty,financial aid
ORGANIZER;CN="CITL and Continuing Education & Workforce Development (CEWD)":MAILTO:carl.norris@sunycgcc.edu
END:VEVENT
BEGIN:VEVENT
DTSTART;TZID=America/New_York:20260506T110000
DTEND;TZID=America/New_York:20260506T140000
DTSTAMP:20260424T111902
CREATED:20260422T183743Z
LAST-MODIFIED:20260422T183925Z
UID:83652-1778065200-1778076000@www.columbiagreene.edu
SUMMARY:Fuel up for Finals
DESCRIPTION:Finals are coming—don’t go in unprepared! \nStop by the Student Success Center for:\n• Pizza\n• Brain food\n• Caffeine\n• Study tips\n• Tutors available
URL:https://www.columbiagreene.edu/event/fuel-up-for-finals/
LOCATION:SSC
CATEGORIES:Student Event
END:VEVENT
BEGIN:VEVENT
DTSTART;TZID=America/New_York:20260509T110000
DTEND;TZID=America/New_York:20260509T133000
DTSTAMP:20260424T111902
CREATED:20260204T210735Z
LAST-MODIFIED:20260204T211316Z
UID:69048-1778324400-1778333400@www.columbiagreene.edu
SUMMARY:Saturday Hours in the SSC
DESCRIPTION:The Student Success Center (SSC) will be open on the Saturday dates listed below from 11:00 a.m.–1:00 p.m. Computer labs with printers will be open for student use. \n• May 9
URL:https://www.columbiagreene.edu/event/saturday-hours-in-the-ssc-6/
LOCATION:SSC
CATEGORIES:Student Event
END:VEVENT
BEGIN:VEVENT
DTSTART;TZID=America/New_York:20260512T120000
DTEND;TZID=America/New_York:20260512T140000
DTSTAMP:20260424T111902
CREATED:20260423T141201Z
LAST-MODIFIED:20260423T141233Z
UID:83665-1778587200-1778594400@www.columbiagreene.edu
SUMMARY:Tiny House Ribbon Cutting Ceremony
DESCRIPTION:Join us as we celebrate the hard work and craftsmanship of our Construction Technology students at the Tiny House Ribbon Cutting Ceremony. Held at the Construction Technology Center\, this event highlights student skill\, hands-on learning\, and the completion of an exciting project. Come show your support and be part of this special milestone!
URL:https://www.columbiagreene.edu/event/tiny-house-ribbon-cutting-ceremony/
LOCATION:Construction Technology Center
CATEGORIES:Community Event
END:VEVENT
BEGIN:VEVENT
DTSTART;TZID=America/New_York:20260604T180000
DTEND;TZID=America/New_York:20260604T200000
DTSTAMP:20260424T111902
CREATED:20260413T183916Z
LAST-MODIFIED:20260413T190439Z
UID:83502-1780596000-1780603200@www.columbiagreene.edu
SUMMARY:CIHS: Celebration of Excellence
DESCRIPTION:Please join us in celebrating the academic achievements of College-in-the-High School Seniors. \nIf you have questions\, please contact Sandra Sworts-Gardener at sandra.swortsgardner@sunycgcc.edu.
URL:https://www.columbiagreene.edu/event/cihs-celebration-of-excellence/
LOCATION:Arts Center\, Theater
CATEGORIES:Campus Community
END:VEVENT
END:VCALENDAR