BEGIN:VCALENDAR
VERSION:2.0
PRODID:-//Columbia-Greene Community College - ECPv6.15.17.1//NONSGML v1.0//EN
CALSCALE:GREGORIAN
METHOD:PUBLISH
X-ORIGINAL-URL:https://www.columbiagreene.edu
X-WR-CALDESC:Events for Columbia-Greene Community College
REFRESH-INTERVAL;VALUE=DURATION:PT1H
X-Robots-Tag:noindex
X-PUBLISHED-TTL:PT1H
BEGIN:VTIMEZONE
TZID:America/New_York
BEGIN:DAYLIGHT
TZOFFSETFROM:-0500
TZOFFSETTO:-0400
TZNAME:EDT
DTSTART:20240310T070000
END:DAYLIGHT
BEGIN:STANDARD
TZOFFSETFROM:-0400
TZOFFSETTO:-0500
TZNAME:EST
DTSTART:20241103T060000
END:STANDARD
BEGIN:DAYLIGHT
TZOFFSETFROM:-0500
TZOFFSETTO:-0400
TZNAME:EDT
DTSTART:20250309T070000
END:DAYLIGHT
BEGIN:STANDARD
TZOFFSETFROM:-0400
TZOFFSETTO:-0500
TZNAME:EST
DTSTART:20251102T060000
END:STANDARD
BEGIN:DAYLIGHT
TZOFFSETFROM:-0500
TZOFFSETTO:-0400
TZNAME:EDT
DTSTART:20260308T070000
END:DAYLIGHT
BEGIN:STANDARD
TZOFFSETFROM:-0400
TZOFFSETTO:-0500
TZNAME:EST
DTSTART:20261101T060000
END:STANDARD
BEGIN:DAYLIGHT
TZOFFSETFROM:-0500
TZOFFSETTO:-0400
TZNAME:EDT
DTSTART:20270314T070000
END:DAYLIGHT
BEGIN:STANDARD
TZOFFSETFROM:-0400
TZOFFSETTO:-0500
TZNAME:EST
DTSTART:20271107T060000
END:STANDARD
END:VTIMEZONE
BEGIN:VEVENT
DTSTART;TZID=America/New_York:20260120T080000
DTEND;TZID=America/New_York:20260120T170000
DTSTAMP:20260420T180504
CREATED:20260113T205422Z
LAST-MODIFIED:20260114T150144Z
UID:68673-1768896000-1768928400@www.columbiagreene.edu
SUMMARY:The Pause: Beginning-of-Semester Reflection
DESCRIPTION:College life moves fast. The library’s new Pause space invites you to slow down\, reflect on who you are and who you want to become this semester\, and consider small habits that support balance\, well-being and success. All are welcome. \nLibrary Hours \nMonday 8 am – 7 pm \nTuesday – Thursday 8 am – 5 pm \nFriday 8 am – 4 pm
URL:https://www.columbiagreene.edu/event/the-pause-beginning-of-semester-reflection/
LOCATION:Main Building\, Library
END:VEVENT
BEGIN:VEVENT
DTSTART;TZID=America/New_York:20260120T080000
DTEND;TZID=America/New_York:20260120T170000
DTSTAMP:20260420T180504
CREATED:20260113T201830Z
LAST-MODIFIED:20260113T203824Z
UID:68661-1768896000-1768928400@www.columbiagreene.edu
SUMMARY:Spring 2026 Common Read
DESCRIPTION:James by Percival Everett\nA powerful reimagining that invites reflection on identity\, voice\, freedom\, and moral choice. The Common Read creates space for thoughtful dialogue\, shared learning\, and meaningful connection across the campus community. All are welcome to participate. Faculty are warmly encouraged to invite students to join and to participate themselves.  Free copies available while supplies last (email pilatich@sunycgcc.edu).
URL:https://www.columbiagreene.edu/event/spring-2026-common-read/
LOCATION:Main Building\, Library
END:VEVENT
BEGIN:VEVENT
DTSTART;TZID=America/New_York:20260113T083000
DTEND;TZID=America/New_York:20260113T130000
DTSTAMP:20260420T180504
CREATED:20260112T185652Z
LAST-MODIFIED:20260112T191327Z
UID:68615-1768293000-1768309200@www.columbiagreene.edu
SUMMARY:Professional Development Day
DESCRIPTION:Spring All College Day will be a Professional Development Day for the entire campus\, hosted by the Center for Innovation\, Teaching\, and Learning. This is a permanent change to the Spring All College Day\, and attendance is mandatory. \n8:30 am – Optional Breakfast\, Art Center \n9:00 am to 9:20 am – President’s Welcome Address\, Dr. Victoria Walsh \n9:20 am to 9:30 am – Introduction\, CITL – Dr. Nikki Childrose\, Maya Greene\, Dr. Stacey Hills \n9:30 am – Building Bridges for Belonging: Inclusive Practices for Adult Learners\, Dr. Ron Milon \n10:45 am to 11:45 am – Breakout Sessions\, PAC \n12:00 pm to 1:00 pm – Lunch\, Debrief & Reflect\, Cafeteria \nAfternoon session – time for division and department meetings as needed. \n  \n  \n 
URL:https://www.columbiagreene.edu/event/professional-development-day/
LOCATION:Arts Center\, Theater
CATEGORIES:All Faculty and Staff
ORGANIZER;CN="CITL":MAILTO:citl@columbiagreene.edu
END:VEVENT
BEGIN:VEVENT
DTSTART;TZID=America/New_York:20251219T093000
DTEND;TZID=America/New_York:20251219T110000
DTSTAMP:20260420T180504
CREATED:20251210T151304Z
LAST-MODIFIED:20251210T153744Z
UID:68182-1766136600-1766142000@www.columbiagreene.edu
SUMMARY:Campuswide Holiday Breakfast: Faculty & Staff
DESCRIPTION:All employees are invited to join us for a festive end-of-semester gathering\, featuring good company and delicious breakfast treats. Enjoy coffee\, tea\, juice\, bagels\, yogurt\, pastries\, and more as we celebrate the season together!
URL:https://www.columbiagreene.edu/event/campuswide-holiday-breakfast-faculty-staff/
LOCATION:Student Cafeteria
CATEGORIES:All Faculty and Staff
END:VEVENT
BEGIN:VEVENT
DTSTART;TZID=America/New_York:20251217T120000
DTEND;TZID=America/New_York:20251217T130000
DTSTAMP:20260420T180504
CREATED:20251210T193422Z
LAST-MODIFIED:20251216T140134Z
UID:68190-1765972800-1765976400@www.columbiagreene.edu
SUMMARY:Learn to Crochet: Granny Squares
DESCRIPTION:Join us in the Wellness Lounge for a relaxing “Learn to Crochet: Granny Squares” session! Whether you’re a beginner or looking to refresh your skills\, this hands-on workshop offers a calming\, creative break in the middle of your week.
URL:https://www.columbiagreene.edu/event/leart-to-crochet-granny-squares/
LOCATION:Wellness Room\, Room 120\, Main Building
CATEGORIES:Campus Community
END:VEVENT
BEGIN:VEVENT
DTSTART;TZID=America/New_York:20251217T073000
DTEND;TZID=America/New_York:20251217T170000
DTSTAMP:20260420T180504
CREATED:20251120T201014Z
LAST-MODIFIED:20251120T201116Z
UID:67874-1765956600-1765990800@www.columbiagreene.edu
SUMMARY:Extended Library Hours
DESCRIPTION:
URL:https://www.columbiagreene.edu/event/extended-library-hours-2/
END:VEVENT
BEGIN:VEVENT
DTSTART;TZID=America/New_York:20251216T080000
DTEND;TZID=America/New_York:20251216T170000
DTSTAMP:20260420T180504
CREATED:20251021T182508Z
LAST-MODIFIED:20251021T182508Z
UID:67362-1765872000-1765904400@www.columbiagreene.edu
SUMMARY:Open Clinic: Greene County Family Planning
DESCRIPTION:Confidential\, reliable reproductive healthcare available to all students and staff. Sliding scale fees\, walk-ins welcome
URL:https://www.columbiagreene.edu/event/open-clinic-greene-county-family-planning-8/
LOCATION:PAC\, Room 616
END:VEVENT
BEGIN:VEVENT
DTSTART;TZID=America/New_York:20251216T073000
DTEND;TZID=America/New_York:20251216T180000
DTSTAMP:20260420T180504
CREATED:20251120T200828Z
LAST-MODIFIED:20251120T201151Z
UID:67872-1765870200-1765908000@www.columbiagreene.edu
SUMMARY:Extended Library Hours
DESCRIPTION:
URL:https://www.columbiagreene.edu/event/extended-library-hours/
LOCATION:Main Building\, Library
END:VEVENT
BEGIN:VEVENT
DTSTART;TZID=America/New_York:20251215T080000
DTEND;TZID=America/New_York:20251218T133000
DTSTAMP:20260420T180504
CREATED:20251210T140330Z
LAST-MODIFIED:20251212T162249Z
UID:68174-1765785600-1766064600@www.columbiagreene.edu
SUMMARY:CoArc Cafe Menu: December 2025
DESCRIPTION:
URL:https://www.columbiagreene.edu/event/coarc-cafe-menu-december-2025/
LOCATION:Coarc Café
CATEGORIES:Campus Community
END:VEVENT
BEGIN:VEVENT
DTSTART;TZID=America/New_York:20251215T080000
DTEND;TZID=America/New_York:20251215T170000
DTSTAMP:20260420T180504
CREATED:20251211T145531Z
LAST-MODIFIED:20251211T152124Z
UID:68204-1765785600-1765818000@www.columbiagreene.edu
SUMMARY:Drop-By Registration Day
DESCRIPTION:Need time to register for spring 2026 classes\, but haven’t found the time yet? Well\, here’s your chance for a 30-minute meeting with an academic advisor! Drop by on Monday\, December 15th\, and get one thing off your year-end to-do list. \nCan’t make it on Monday\, 12/15? Make an appointment to meet with an advisor by contacting Vicky Pecord at vicky.pecord@sunycgcc.edu.
URL:https://www.columbiagreene.edu/event/drop-by-registration-day-2/
LOCATION:Academic Advising Office
END:VEVENT
BEGIN:VEVENT
DTSTART;TZID=America/New_York:20251215T080000
DTEND;TZID=America/New_York:20251215T113000
DTSTAMP:20260420T180504
CREATED:20251205T153444Z
LAST-MODIFIED:20251205T153444Z
UID:68116-1765785600-1765798200@www.columbiagreene.edu
SUMMARY:Last Day for the Library's December Monthly Reading Challenge!
DESCRIPTION:Take part in the Library’s Monthly Reading Challenge and be entered to win a $25 Amazon gift card. \nHow to Enter: \n\nRead the article.\nAnswer three short reflection questions.\nSubmit your entry by December 15 no later than 11:30 a.m. for a chance to win!\n\n  \nAccess it on Flipster\, Read the article\, Enter the drawing:\n1. Click HERE to locate the article → Browse All → find the January 2026 issue of Prevention Magazine\, and go to page 62. \n\n Click HERE to enter the challenge!\n\n 
URL:https://www.columbiagreene.edu/event/last-day-for-the-librarys-december-monthly-reading-challenge/
LOCATION:Main Building\, Library
END:VEVENT
BEGIN:VEVENT
DTSTART;TZID=America/New_York:20251215T073000
DTEND;TZID=America/New_York:20251215T190000
DTSTAMP:20260420T180504
CREATED:20251120T200605Z
LAST-MODIFIED:20251124T162919Z
UID:67870-1765783800-1765825200@www.columbiagreene.edu
SUMMARY:Mindful Mondays at the Library
DESCRIPTION:To help you through the end of the semester\, the Library will make available tea\, coffee\, hot cocoa\, candy canes\, and other treats while supplies last\, starting the week of December 1st –  Take a moment to reflect on your goals\, set weekly intentions in our shared journal\, or add to our gratitude tree. Drop in anytime to relax\, recharge\, and discover something new in the Library Connection Nook. \nExtended Monday hours 7:30 AM – 7:00 PM.
URL:https://www.columbiagreene.edu/event/mindful-mondays-at-the-library/
LOCATION:Main Building\, Library
END:VEVENT
BEGIN:VEVENT
DTSTART;TZID=America/New_York:20251211T160000
DTEND;TZID=America/New_York:20251211T190000
DTSTAMP:20260420T180504
CREATED:20251124T171834Z
LAST-MODIFIED:20251124T175408Z
UID:67937-1765468800-1765479600@www.columbiagreene.edu
SUMMARY:Cram Jam
DESCRIPTION:Recharge and refocus as you prep for finals! \n\nSnacks\, pizza\, &  hot cider\nRelaxing massage chair\nOn-the-spot academic support.\n\nStop by for a boost\, get your questions answered\, and start finals week feeling prepared.
URL:https://www.columbiagreene.edu/event/cram-jam-2/
LOCATION:Student Success Center\, Main Building
CATEGORIES:Student Event
END:VEVENT
BEGIN:VEVENT
DTSTART;TZID=America/New_York:20251211T123000
DTEND;TZID=America/New_York:20251211T140000
DTSTAMP:20260420T180504
CREATED:20251125T195029Z
LAST-MODIFIED:20251125T195029Z
UID:67998-1765456200-1765461600@www.columbiagreene.edu
SUMMARY:Holiday Party – End of the Semester Winter Celebration
DESCRIPTION:12:30 pm; Student Dining Hall Celebrate the close of the semester with desserts\, a hot chocolate bar\, trivia\, a coffee truck\, and Stuff-a-Plush fun in the Student Dining Hall.
URL:https://www.columbiagreene.edu/event/holiday-party-end-of-the-semester-winter-celebration/
LOCATION:Dining Hall
CATEGORIES:Student Event
END:VEVENT
BEGIN:VEVENT
DTSTART;TZID=America/New_York:20251211T103000
DTEND;TZID=America/New_York:20251211T133000
DTSTAMP:20260420T180504
CREATED:20251125T194836Z
LAST-MODIFIED:20251125T194836Z
UID:67995-1765449000-1765459800@www.columbiagreene.edu
SUMMARY:Travelin Tom’s Coffee Truck
DESCRIPTION:10:30am – 1:30 pm; Main Building South Doors Grab a free drink from Travelin’ Tom’s Coffee Truck\, offering a limited menu from 10:30 a.m. to 1:30 p.m. outside the south entrance doors. Stop by to recharge and fuel up for the day – sponsored by Student Engagement Office.
URL:https://www.columbiagreene.edu/event/travelin-toms-coffee-truck/
LOCATION:Main Building\, South Entrance
CATEGORIES:Student Event
END:VEVENT
BEGIN:VEVENT
DTSTART;TZID=America/New_York:20251211T090000
DTEND;TZID=America/New_York:20251211T190000
DTSTAMP:20260420T180504
CREATED:20251209T184419Z
LAST-MODIFIED:20251209T190936Z
UID:68162-1765443600-1765479600@www.columbiagreene.edu
SUMMARY:Drop-by Registration Day
DESCRIPTION:Need time to register for spring 2026 classes\, but haven’t found the time yet? Well\, here’s your chance for a 30-minute meeting with an academic advisor! Drop by on Monday\, December 15th\, and get one thing off your year-end to-do list. \nCan’t make it on Monday\, 12/15? Make an appointment to meet with an advisor by contacting Vicky Pecord at vicky.pecord@sunycgcc.edu.
URL:https://www.columbiagreene.edu/event/drop-by-registration-day/
LOCATION:Student Success Center\, Main Building
CATEGORIES:Student Event
END:VEVENT
BEGIN:VEVENT
DTSTART;TZID=America/New_York:20251210T123000
DTEND;TZID=America/New_York:20251210T133000
DTSTAMP:20260420T180504
CREATED:20251125T194631Z
LAST-MODIFIED:20251125T194631Z
UID:67993-1765369800-1765373400@www.columbiagreene.edu
SUMMARY:A Visit from Wrigs\, the Therapy Dog
DESCRIPTION:12:30-1:30pm; Various locations on campus Wrigs\, the Hudson Police Department’s first therapy dog\, will be on campus with his handler\, Sgt. Larry Edelman\, to bring comfort and smiles to our community. He’ll be making rounds around the buildings\, so be sure to come and say hello! 
URL:https://www.columbiagreene.edu/event/a-visit-from-wrigs-the-therapy-dog/
LOCATION:Main Building\, Outside the Student Cafeteria
CATEGORIES:Student Event
END:VEVENT
BEGIN:VEVENT
DTSTART;TZID=America/New_York:20251210T110000
DTEND;TZID=America/New_York:20251210T150000
DTSTAMP:20260420T180504
CREATED:20251124T161312Z
LAST-MODIFIED:20251124T161312Z
UID:67922-1765364400-1765378800@www.columbiagreene.edu
SUMMARY:Destress activities Open craft and Origami ‘n Sip
DESCRIPTION:Relax with calming origami and crafts while sipping tea or coffee.\nAll supplies provided—no experience needed.
URL:https://www.columbiagreene.edu/event/destress-activities-open-craft-and-origami-n-sip-2/
LOCATION:Main Building\, Library
END:VEVENT
BEGIN:VEVENT
DTSTART;TZID=America/New_York:20251210T110000
DTEND;TZID=America/New_York:20251210T140000
DTSTAMP:20260420T180504
CREATED:20251125T194246Z
LAST-MODIFIED:20251125T194246Z
UID:67989-1765364400-1765375200@www.columbiagreene.edu
SUMMARY:Healing Touch
DESCRIPTION:11:00 am – 2:00 pm\, Wellness Lounge – Room 120 A gentle\, relaxing energy therapy that promotes calm\, reduces stress\, and supports overall well-being. A certified practitioner will guide you through a restorative session designed to help you feel more balanced and centered.  
URL:https://www.columbiagreene.edu/event/healing-touch/
LOCATION:Wellness Room\, Room 120\, Main Building
CATEGORIES:Student Event
END:VEVENT
BEGIN:VEVENT
DTSTART;TZID=America/New_York:20251210T110000
DTEND;TZID=America/New_York:20251210T140000
DTSTAMP:20260420T180504
CREATED:20251124T182239Z
LAST-MODIFIED:20251124T183544Z
UID:67948-1765364400-1765375200@www.columbiagreene.edu
SUMMARY:Wellness Wednesday: Healing Touch
DESCRIPTION:
URL:https://www.columbiagreene.edu/event/wellness-wednesday-healing-touch/
LOCATION:Wellness Room\, Room 120\, Main Building
CATEGORIES:Student Event
END:VEVENT
BEGIN:VEVENT
DTSTART;TZID=America/New_York:20251210T110000
DTEND;TZID=America/New_York:20251210T140000
DTSTAMP:20260420T180504
CREATED:20251124T182109Z
LAST-MODIFIED:20251124T182109Z
UID:67946-1765364400-1765375200@www.columbiagreene.edu
SUMMARY:Wellness Wednesday: Chair Massages
DESCRIPTION:Take a moment to relax and recharge! \nEnjoy a free chair massage on Wednesday\, December 10\, from 11:00 AM to 2:00 PM in the Wellness Lounge. \nDrop in for a quick\, stress-relieving break—your mind and muscles will thank you!
URL:https://www.columbiagreene.edu/event/wellness-wednesday-chair-massages/
LOCATION:Wellness Room\, Room 120\, Main Building
CATEGORIES:Student Event
END:VEVENT
BEGIN:VEVENT
DTSTART;TZID=America/New_York:20251210T003000
DTEND;TZID=America/New_York:20251210T013000
DTSTAMP:20260420T180504
CREATED:20251124T183711Z
LAST-MODIFIED:20251124T183754Z
UID:67951-1765326600-1765330200@www.columbiagreene.edu
SUMMARY:Wellness Wednesday: Therapy Dog Wrigs
DESCRIPTION:Need a mood boost? \nWrigs the Therapy Dog will be on campus Wednesday\, December 10 from 12:30–1:30 PM. \nStop by for cuddles\, comfort\, and a little de-stress time!
URL:https://www.columbiagreene.edu/event/wellness-wednesday-therapy-dog-wrigs/
LOCATION:Wellness Room\, Room 120\, Main Building
CATEGORIES:All Faculty and Staff,Student Event
END:VEVENT
BEGIN:VEVENT
DTSTART;TZID=America/New_York:20251209T123000
DTEND;TZID=America/New_York:20251209T140000
DTSTAMP:20260420T180504
CREATED:20251124T181425Z
LAST-MODIFIED:20251124T181425Z
UID:67944-1765283400-1765288800@www.columbiagreene.edu
SUMMARY:Kickboxing/Zumba
DESCRIPTION:Get moving and boost your energy before the end of the semester! \nJoin us on Tuesday\, December 9\, from 12:30–2:00 PM in the Gym for an upbeat Kickboxing/Zumba session. \nAll fitness levels are welcome—come ready to sweat\, have fun\, and de-stress!
URL:https://www.columbiagreene.edu/event/kickboxing-zumba/
LOCATION:Gym
CATEGORIES:Student Event
END:VEVENT
BEGIN:VEVENT
DTSTART;TZID=America/New_York:20251209T110000
DTEND;TZID=America/New_York:20251209T150000
DTSTAMP:20260420T180504
CREATED:20251124T160928Z
LAST-MODIFIED:20251124T161645Z
UID:67918-1765278000-1765292400@www.columbiagreene.edu
SUMMARY:Destress activities Open craft and Origami ‘n Sip
DESCRIPTION:Relax with calming origami and crafts while sipping tea or coffee.\nAll supplies provided—no experience needed.
URL:https://www.columbiagreene.edu/event/destress-activities-open-craft-and-origami-n-sip/
LOCATION:Main Building\, Library
END:VEVENT
BEGIN:VEVENT
DTSTART;TZID=America/New_York:20251209T100000
DTEND;TZID=America/New_York:20251209T140000
DTSTAMP:20260420T180504
CREATED:20251021T182713Z
LAST-MODIFIED:20251021T182950Z
UID:67364-1765274400-1765288800@www.columbiagreene.edu
SUMMARY:Open Clinic: Greene County Family Planning
DESCRIPTION:Confidential\, reliable reproductive healthcare available to all students and staff. Sliding scale fees\, walk-ins welcome.
URL:https://www.columbiagreene.edu/event/67364/
LOCATION:PAC\, Room 616
END:VEVENT
BEGIN:VEVENT
DTSTART;TZID=America/New_York:20251209T100000
DTEND;TZID=America/New_York:20251209T140000
DTSTAMP:20260420T180504
CREATED:20251021T182407Z
LAST-MODIFIED:20251021T182407Z
UID:67360-1765274400-1765288800@www.columbiagreene.edu
SUMMARY:Open Clinic: Greene County Family Planning
DESCRIPTION:Confidential\, reliable reproductive healthcare available to all students and staff. Sliding scale fees\, walk-ins welcome
URL:https://www.columbiagreene.edu/event/open-clinic-greene-county-family-planning-7/
LOCATION:PAC\, Room 616
END:VEVENT
BEGIN:VEVENT
DTSTART;TZID=America/New_York:20251208T141500
DTEND;TZID=America/New_York:20251208T151500
DTSTAMP:20260420T180504
CREATED:20250905T160226Z
LAST-MODIFIED:20251204T132731Z
UID:66493-1765203300-1765206900@www.columbiagreene.edu
SUMMARY:Common Read Final Discussion
DESCRIPTION:Join us in the Library or via Zoom at https://zoom.us/j/95519249474 for a final discussion of the common read – The Secret Life of Sunflowers by Marta Molnar!
URL:https://www.columbiagreene.edu/event/library-common-read-final-discussion/
LOCATION:Main Building\, Library
END:VEVENT
BEGIN:VEVENT
DTSTART;TZID=America/New_York:20251208T080000
DTEND;TZID=America/New_York:20251208T190000
DTSTAMP:20260420T180504
CREATED:20251124T160052Z
LAST-MODIFIED:20251124T160052Z
UID:67915-1765180800-1765220400@www.columbiagreene.edu
SUMMARY:Drop-In for Research Rescue
DESCRIPTION:Need help finding scholarly articles or writing your citations for your assignments? Join us in the library or for a quick virtual demo on locating research materials see the link and times below.\nVirtual Research Rescue: \nMondays\, Dec. 1st & 8th: \n9:00 a.m. – 10:00 a.m. \nMorning Zoom Meeting Link: \nhttps://zoom.us/j/93619990387 \n— \n5:30 p.m.  – 6:30 p.m. \nEvening Zoom Link:  https://zoom.us/j/98268551232
URL:https://www.columbiagreene.edu/event/drop-in-for-research-rescue-2/
LOCATION:Main Building\, Library
END:VEVENT
BEGIN:VEVENT
DTSTART;TZID=America/New_York:20251208T073000
DTEND;TZID=America/New_York:20251208T190000
DTSTAMP:20260420T180504
CREATED:20250905T162427Z
LAST-MODIFIED:20251124T162856Z
UID:66524-1765179000-1765220400@www.columbiagreene.edu
SUMMARY:Mindful Mondays at the Library
DESCRIPTION:To help you through the end of the semester\, the Library will make available tea\, coffee\, hot cocoa\, candy canes\, and other treats while supplies last\, starting the week of December 1st –  Take a moment to reflect on your goals\, set weekly intentions in our shared journal\, or add to our gratitude tree. Drop in anytime to relax\, recharge\, and discover something new in the Library Connection Nook. \nExtended Monday hours 7:30 AM – 7:00 PM.
URL:https://www.columbiagreene.edu/event/library-mindful-mondays-at-the-library-13/
LOCATION:Main Building\, Library
END:VEVENT
BEGIN:VEVENT
DTSTART;VALUE=DATE:20251208
DTEND;VALUE=DATE:20251213
DTSTAMP:20260420T180504
CREATED:20251124T190608Z
LAST-MODIFIED:20251124T191840Z
UID:67955-1765152000-1765583999@www.columbiagreene.edu
SUMMARY:Faculty & Staff: SUNY CPD Professional Development Week 2025 — Registration Now Open!
DESCRIPTION:The SUNY Center for Professional Development is pleased to invite you to Professional Development Week\, taking place from December 8 to 12\, 2025. This week-long virtual event features a series of free\, one-hour learning sessions held daily from 12:00 to 1:00 p.m. \nThese sessions are open to anyone interested—whether you’re part of the SUNY system or simply looking to grow your skills and explore new ideas. \nProfessional Development Week is a chance to learn something new\, explore emerging tools\, and connect with colleagues across the SUNY system—all during your lunch hour. \nSession Topics Include: \n\nMicrosoft Copilot: Boosting Productivity with AI\nTranscending Imposterism and the A.N.T.s That Hold Us Back\nExpanding Learning Pathways: Lumen Circles\, Coursera & Google Certificates\nHow Successful People Remain Calm\nBuilding Connection and Collaboration with Viva Engage\n\nWhy Attend? \n\nFree and accessible sessions\nPractical skills you can apply right away\nOpportunities to expand your network\nShort format that fits into your workday\n\nWhether you’re looking to grow professionally\, explore new tools and platforms\, or build confidence in your role\, there’s something for everyone. \nRegister now to reserve your spot!
URL:https://www.columbiagreene.edu/event/faculty-staff-suny-cpd-professional-development-week-2025-registration-now-open/
LOCATION:Online
CATEGORIES:All Faculty and Staff,Faculty and Adjunct Faculty
END:VEVENT
END:VCALENDAR